BEGIN:VCALENDAR
VERSION:2.0
PRODID:KS Public Square Calendar Creator
METHOD:PUBLISH
BEGIN:VEVENT
DTSTAMP:20260313T091846
DTSTART:20260320T110000
DTEND:20260320T120000
SUMMARY:Kansas Human Rights Commission meeting
DESCRIPTION:The Kansas Human Rights Commission meeting will be held on Friday, March 20, 2026, at 11:00am.&nbsp; The meeting will be held in person and through Microsoft Teams.&nbsp; The public can access the meeting by calling 785-414-8630, and then entering the conference code of 502 398 545, followed by the # sign.&nbsp; The public can request meeting materials or a Microsoft Teams meeting invitation by calling the KHRC Topeka office at 785-296-3206 or 1-888-793-6874.&nbsp; Any individual with a disability may request an accommodation to participate in a Commission meeting by contacting Ruth Glover at 785-296-3206 or khrc@ks.gov.&nbsp; Individuals with hearing and/or speech disabilities may contact the Kansas Relay Center at 1-800-766-3777 for communication accommodations.&nbsp; The Commission agenda is linked here:&nbsp;<a href="http://www.khrc.net/pdf/COMMISSION%20AGENDA.pdf">COMMISSION AGENDA.pdf (khrc.net)</a>
X-ALT-DESC;FMTTYPE=text/html:The Kansas Human Rights Commission meeting will be held on Friday, March 20, 2026, at 11:00am.&nbsp; The meeting will be held in person and through Microsoft Teams.&nbsp; The public can access the meeting by calling 785-414-8630, and then entering the conference code of 502 398 545, followed by the # sign.&nbsp; The public can request meeting materials or a Microsoft Teams meeting invitation by calling the KHRC Topeka office at 785-296-3206 or 1-888-793-6874.&nbsp; Any individual with a disability may request an accommodation to participate in a Commission meeting by contacting Ruth Glover at 785-296-3206 or khrc@ks.gov.&nbsp; Individuals with hearing and/or speech disabilities may contact the Kansas Relay Center at 1-800-766-3777 for communication accommodations.&nbsp; The Commission agenda is linked here:&nbsp;<a href="http://www.khrc.net/pdf/COMMISSION%20AGENDA.pdf">COMMISSION AGENDA.pdf (khrc.net)</a>
LOCATION:Kansas Human Rights Commission\, 900 SW Jackson St.\, Ste. 568S Topeka\, Kansas 66612
CLASS:PUBLIC
END:VEVENT
END:VCALENDAR
